BEGIN:VCALENDAR
VERSION:2.0
PRODID:-//Conscience Créative - ECPv5.7.1//NONSGML v1.0//EN
CALSCALE:GREGORIAN
METHOD:PUBLISH
X-WR-CALNAME:Conscience Créative
X-ORIGINAL-URL:https://consciencecreative.margueritelaleye.ch
X-WR-CALDESC:Events for Conscience Créative
BEGIN:VTIMEZONE
TZID:Europe/Paris
BEGIN:DAYLIGHT
TZOFFSETFROM:+0100
TZOFFSETTO:+0200
TZNAME:CEST
DTSTART:20230326T010000
END:DAYLIGHT
BEGIN:STANDARD
TZOFFSETFROM:+0200
TZOFFSETTO:+0100
TZNAME:CET
DTSTART:20231029T010000
END:STANDARD
END:VTIMEZONE
BEGIN:VEVENT
DTSTART;TZID=Europe/Paris:20231207T174500
DTEND;TZID=Europe/Paris:20231207T201000
DTSTAMP:20260424T192300
CREATED:20231109T050818Z
LAST-MODIFIED:20231109T050818Z
UID:2432-1701971100-1701979800@consciencecreative.margueritelaleye.ch
SUMMARY:CinÉveil - Collaboration avec #ciné
DESCRIPTION:SYNOPSIS \nA Iyi\, petit village fictif bordé par l‘océan et coupé du monde\, les gens honorent la déesse Mami Wata\, censée leur apporter protection et bonne fortune. Ils confient leurs richesses à Mama Efe\, prêtresse qui sert d‘intermédiaire à la puissante divinité. Bientôt\, l‘une des deux filles de Mama Efe devra devenir intermédiaire à son tour. Les jours du village s‘écoulent paisiblement sous ce régime matriarcal et divin\, mais la violente révolte qui secoue le monde extérieur s‘approche à grand pas. \n\nSéance CinEveil – en collaboration avec #ciné. Année : 2023\nDurée : 1h47\nPays : Nigeria\nTRIGON FILM\nAge légal 16 ans / suggéré dès 16 ans / accompagné dès 14 ans \n\n\npage d’info: https://www.cinemotion.ch/deja-en-vente/mami-wata-8975.html\nbilletterie: https://billetterie.cinemotion.ch/shop/242835\n\n  \n 
URL:https://consciencecreative.margueritelaleye.ch/event/cineveil-collaboration-avec-cine/
LOCATION:Cinemotion Rex\, Fribourg\, 1700
ATTACH;FMTTYPE=image/jpeg:https://consciencecreative.margueritelaleye.ch/wp-content/uploads/2023/11/Mami-Wata-chants-aux-esprits-de-leau-3.jpg
END:VEVENT
END:VCALENDAR