BEGIN:VCALENDAR
VERSION:2.0
PRODID:-//Conscience Créative - ECPv5.7.1//NONSGML v1.0//EN
CALSCALE:GREGORIAN
METHOD:PUBLISH
X-WR-CALNAME:Conscience Créative
X-ORIGINAL-URL:https://consciencecreative.margueritelaleye.ch
X-WR-CALDESC:Events for Conscience Créative
BEGIN:VTIMEZONE
TZID:Europe/Paris
BEGIN:DAYLIGHT
TZOFFSETFROM:+0100
TZOFFSETTO:+0200
TZNAME:CEST
DTSTART:20210328T010000
END:DAYLIGHT
BEGIN:STANDARD
TZOFFSETFROM:+0200
TZOFFSETTO:+0100
TZNAME:CET
DTSTART:20211031T010000
END:STANDARD
END:VTIMEZONE
BEGIN:VEVENT
DTSTART;TZID=Europe/Paris:20210909T180000
DTEND;TZID=Europe/Paris:20210909T193000
DTSTAMP:20260422T234810
CREATED:20210815T100714Z
LAST-MODIFIED:20210815T103750Z
UID:2369-1631210400-1631215800@consciencecreative.margueritelaleye.ch
SUMMARY:Soirée de présentation du jeu de cartes créatives ADO ZEN
DESCRIPTION:La nature qui nous entoure représente une source d’inspiration à tous les âges de nos vies et particulièrement durant des phases clés de notre existence telle que celle de l’adolescence. Prendre conscience de l’importance de notre environnement et de ce lien intime avec notre propre évolution est essentiel. Ce lien avec la nature nous invite à la respecter et la protéger. A la remercier pour tous ses enseignements. \nSon histoire\, son utilisation… Venez découvrir les 42 cartes illustrées du coffret ADO ZEN\, un support d’exploration et de réflexion pour les adolescent*es et leurs parents ainsi que toute personne en lien avec les jeunes.
URL:https://consciencecreative.margueritelaleye.ch/event/soiree-de-presentation-du-jeu-de-cartes-creatives-ado-zen-2/
LOCATION:Librophoros\, Rue de Rome 1\, Fribourg\, 1700\, Suisse
CATEGORIES:Soirées
ATTACH;FMTTYPE=image/jpeg:https://consciencecreative.margueritelaleye.ch/wp-content/uploads/2021/08/Soirée-présentation-ado-zen-6.jpg
END:VEVENT
END:VCALENDAR